Workbook

Sheet Listes
A1: Janvier | B1: 1 | D1: Absences
A2: Février | B2: 2 | D2: Congé payé | E2: CP | F2: {=SUMPRODUCT((T_Conges[Type d''absence]=D2)*(T_Conges[Date début]<='Planning Conges'!$A$9)*(T_Conges[Date Fin]>='Planning Conges'!$A$8)*( (IF(T_Conges[Date Fin]<'Planning Conges'!$A$9,T_Conges[Date Fin],'Planning Conges'!$A$9))-(IF(T_Conges[Date début]>'Planning Conges'!$A$8,T_Conges[Date début],'Planning Conges'!$A$8))+1))} -> 20 | G2: =IF(F2=0,NA(),F2) -> 20
A3: Mars | B3: 3 | D3: Maladie | E3: M | F3: {=SUMPRODUCT((T_Conges[Type d''absence]=D3)*(T_Conges[Date début]<='Planning Conges'!$A$9)*(T_Conges[Date Fin]>='Planning Conges'!$A$8)*( (IF(T_Conges[Date Fin]<'Planning Conges'!$A$9,T_Conges[Date Fin],'Planning Conges'!$A$9))-(IF(T_Conges[Date début]>'Planning Conges'!$A$8,T_Conges[Date début],'Planning Conges'!$A$8))+1))} -> 0 | G3: =IF(F3=0,NA(),F3) -> #N/A
A4: Avril | B4: 4 | D4: Congé exceptionnel | E4: CE | F4: {=SUMPRODUCT((T_Conges[Type d''absence]=D4)*(T_Conges[Date début]<='Planning Conges'!$A$9)*(T_Conges[Date Fin]>='Planning Conges'!$A$8)*( (IF(T_Conges[Date Fin]<'Planning Conges'!$A$9,T_Conges[Date Fin],'Planning Conges'!$A$9))-(IF(T_Conges[Date début]>'Planning Conges'!$A$8,T_Conges[Date début],'Planning Conges'!$A$8))+1))} -> 0 | G4: =IF(F4=0,NA(),F4) -> #N/A
A5: Mai | B5: 5 | D5: Sans solde | E5: SS | F5: {=SUMPRODUCT((T_Conges[Type d''absence]=D5)*(T_Conges[Date début]<='Planning Conges'!$A$9)*(T_Conges[Date Fin]>='Planning Conges'!$A$8)*( (IF(T_Conges[Date Fin]<'Planning Conges'!$A$9,T_Conges[Date Fin],'Planning Conges'!$A$9))-(IF(T_Conges[Date début]>'Planning Conges'!$A$8,T_Conges[Date début],'Planning Conges'!$A$8))+1))} -> 0 | G5: =IF(F5=0,NA(),F5) -> #N/A
A6: Juin | B6: 6 | D6: Formation | E6: F | F6: {=SUMPRODUCT((T_Conges[Type d''absence]=D6)*(T_Conges[Date début]<='Planning Conges'!$A$9)*(T_Conges[Date Fin]>='Planning Conges'!$A$8)*( (IF(T_Conges[Date Fin]<'Planning Conges'!$A$9,T_Conges[Date Fin],'Planning Conges'!$A$9))-(IF(T_Conges[Date début]>'Planning Conges'!$A$8,T_Conges[Date début],'Planning Conges'!$A$8))+1))} -> 0 | G6: =IF(F6=0,NA(),F6) -> #N/A
A7: Juillet | B7: 7 | D7: Absence | E7: A | F7: {=SUMPRODUCT((T_Conges[Type d''absence]=D7)*(T_Conges[Date début]<='Planning Conges'!$A$9)*(T_Conges[Date Fin]>='Planning Conges'!$A$8)*( (IF(T_Conges[Date Fin]<'Planning Conges'!$A$9,T_Conges[Date Fin],'Planning Conges'!$A$9))-(IF(T_Conges[Date début]>'Planning Conges'!$A$8,T_Conges[Date début],'Planning Conges'!$A$8))+1))} -> 0 | G7: =IF(F7=0,NA(),F7) -> #N/A
A8: Août | B8: 8
A9: Septembre | B9: 9
A10: Octobre | B10: 10
A11: Novembre | B11: 11
A12: Décembre | B12: 12

Sheet Saisie
C2: SAISIE DES CONGES ET ABSENCES
C7: Ajouter ici les congés et absences des collaborateurs
C10: ID Congé | D10: Nom complet | E10: Département | F10: Poste | G10: Type d'absence | H10: Date début | I10: Date Fin | J10: Nbre de jours | K10: Statut
C11: =IF(D11="","",MAX($C$10:C10)+1) -> 1 | D11: Oussama | E11: Informatique | F11: Stagiaire | G11: Congé payé | H11: 46082 | I11: 46101 | J11: =IF(OR(T_Conges[[#This Row],[Date début]]="",T_Conges[[#This Row],[Date Fin]]=""),"",T_Conges[[#This Row],[Date Fin]]-T_Conges[[#This Row],[Date début]]+1) -> 20 | K11: Validé
C12: =IF(D12="","",MAX($C$10:C11)+1)
C13: =IF(D13="","",MAX($C$10:C12)+1)

Sheet Planning Conges
C2: PLANNING DES CONGES
A7: =IFERROR(VLOOKUP(E7,Listes!A:B,2,0),1) -> 3 | C7: Période : | D7: 2026 | E7: Mars
A8: =DATE(D7,A7,1) -> 46082
A9: =EOMONTH(A8,0) -> 46112
C10: Total employés | E10: {=SUM(IF(T_Conges[Nom complet]<>"",1/COUNTIF(T_Conges[Nom complet],T_Conges[Nom complet])))} -> 1
C11: Employés en congé | E11: =COUNTIF('Planning Conges'!F16:F45,">0") -> 1
C12: Charge moyenne | E12: =IFERROR(SUM($F$16:$F$45)/E10,"") -> 20
C15: Nom complet | D15: Département | E15: Poste | F15: Congés pris | H15: =DATE($D$7,A7,1) -> 46082 | I15: =IFERROR(IF(MONTH(H15)<>MONTH(H15+1),"",H15+1),"") -> 46083 | J15: =IFERROR(IF(MONTH(I15)<>MONTH(I15+1),"",I15+1),"") -> 46084 | K15: =IFERROR(IF(MONTH(J15)<>MONTH(J15+1),"",J15+1),"") -> 46085 | L15: =IFERROR(IF(MONTH(K15)<>MONTH(K15+1),"",K15+1),"") -> 46086 | M15: =IFERROR(IF(MONTH(L15)<>MONTH(L15+1),"",L15+1),"") -> 46087 | N15: =IFERROR(IF(MONTH(M15)<>MONTH(M15+1),"",M15+1),"") -> 46088 | O15: =IFERROR(IF(MONTH(N15)<>MONTH(N15+1),"",N15+1),"") -> 46089 | P15: =IFERROR(IF(MONTH(O15)<>MONTH(O15+1),"",O15+1),"") -> 46090 | ... AL15: =IFERROR(IF(MONTH(AK15)<>MONTH(AK15+1),"",AK15+1),"") -> 46112
C16: {=IFERROR(INDEX(T_Conges[Nom complet],MATCH(0,COUNTIF($C$15:C15,T_Conges[Nom complet]),0)),"")} -> Oussama | D16: =IFERROR(VLOOKUP(C16,T_Conges[[Nom complet]:[Département]],2,0),"") -> Informatique | E16: =IFERROR(VLOOKUP(C16,T_Conges[[Nom complet]:[Poste]],3,0),"") -> Stagiaire | F16: {=SUMPRODUCT(--(H16:AL16<>""))} -> 20 | G16: {=SUMPRODUCT(--(H16:AL16<>""))} -> 20 | H16: {=IFERROR(INDEX(Listes!$E$2:$E$7,MATCH(INDEX(T_Conges[Type d''absence],MATCH(1,(T_Conges[Nom complet]=$C16)*(T_Conges[Date début]<=H$15)*(T_Conges[Date Fin]>=H$15)*(T_Conges[Statut]="Validé"),0)),Listes!$D$2:$D$7,0)),"")} -> CP | I16: {=IFERROR(INDEX(Listes!$E$2:$E$7,MATCH(INDEX(T_Conges[Type d''absence],MATCH(1,(T_Conges[Nom complet]=$C16)*(T_Conges[Date début]<=I$15)*(T_Conges[Date Fin]>=I$15)*(T_Conges[Statut]="Validé"),0)),Listes!$D$2:$D$7,0)),"")} -> CP | J16: {=IFERROR(INDEX(Listes!$E$2:$E$7,MATCH(INDEX(T_Conges[Type d''absence],MATCH(1,(T_Conges[Nom complet]=$C16)*(T_Conges[Date début]<=J$15)*(T_Conges[Date Fin]>=J$15)*(T_Conges[Statut]="Validé"),0)),Listes!$D$2:$D$7,0)),"")} -> CP | K16: {=IFERROR(INDEX(Listes!$E$2:$E$7,MATCH(INDEX(T_Conges[Type d''absence],MATCH(1,(T_Conges[Nom complet]=$C16)*(T_Conges[Date début]<=K$15)*(T_Conges[Date Fin]>=K$15)*(T_Conges[Statut]="Validé"),0)),Listes!$D$2:$D$7,0)),"")} -> CP | L16: {=IFERROR(INDEX(Listes!$E$2:$E$7,MATCH(INDEX(T_Conges[Type d''absence],MATCH(1,(T_Conges[Nom complet]=$C16)*(T_Conges[Date début]<=L$15)*(T_Conges[Date Fin]>=L$15)*(T_Conges[Statut]="Validé"),0)),Listes!$D$2:$D$7,0)),"")} -> CP | M16: {=IFERROR(INDEX(Listes!$E$2:$E$7,MATCH(INDEX(T_Conges[Type d''absence],MATCH(1,(T_Conges[Nom complet]=$C16)*(T_Conges[Date début]<=M$15)*(T_Conges[Date Fin]>=M$15)*(T_Conges[Statut]="Validé"),0)),Listes!$D$2:$D$7,0)),"")} -> CP | N16: {=IFERROR(INDEX(Listes!$E$2:$E$7,MATCH(INDEX(T_Conges[Type d''absence],MATCH(1,(T_Conges[Nom complet]=$C16)*(T_Conges[Date début]<=N$15)*(T_Conges[Date Fin]>=N$15)*(T_Conges[Statut]="Validé"),0)),Listes!$D$2:$D$7,0)),"")} -> CP | O16: {=IFERROR(INDEX(Listes!$E$2:$E$7,MATCH(INDEX(T_Conges[Type d''absence],MATCH(1,(T_Conges[Nom complet]=$C16)*(T_Conges[Date début]<=O$15)*(T_Conges[Date Fin]>=O$15)*(T_Conges[Statut]="Validé"),0)),Listes!$D$2:$D$7,0)),"")} -> CP | ... AL16: {=IFERROR(INDEX(Listes!$E$2:$E$7,MATCH(INDEX(T_Conges[Type d''absence],MATCH(1,(T_Conges[Nom complet]=$C16)*(T_Conges[Date début]<=AL$15)*(T_Conges[Date Fin]>=AL$15)*(T_Conges[Statut]="Validé"),0)),Listes!$D$2:$D$7,0)),"")}
C17: {=IFERROR(INDEX(T_Conges[Nom complet],MATCH(0,COUNTIF($C$15:C16,T_Conges[Nom complet]),0)),"")} -> 0 | D17: =IFERROR(VLOOKUP(C17,T_Conges[[Nom complet]:[Département]],2,0),"") | E17: =IFERROR(VLOOKUP(C17,T_Conges[[Nom complet]:[Poste]],3,0),"") | F17: {=SUMPRODUCT(--(H17:AL17<>""))} -> 0 | G17: {=SUMPRODUCT(--(H17:AL17<>""))} -> 0 | H17: {=IFERROR(INDEX(Listes!$E$2:$E$7,MATCH(INDEX(T_Conges[Type d''absence],MATCH(1,(T_Conges[Nom complet]=$C17)*(T_Conges[Date début]<=H$15)*(T_Conges[Date Fin]>=H$15)*(T_Conges[Statut]="Validé"),0)),Listes!$D$2:$D$7,0)),"")} | I17: {=IFERROR(INDEX(Listes!$E$2:$E$7,MATCH(INDEX(T_Conges[Type d''absence],MATCH(1,(T_Conges[Nom complet]=$C17)*(T_Conges[Date début]<=I$15)*(T_Conges[Date Fin]>=I$15)*(T_Conges[Statut]="Validé"),0)),Listes!$D$2:$D$7,0)),"")} | J17: {=IFERROR(INDEX(Listes!$E$2:$E$7,MATCH(INDEX(T_Conges[Type d''absence],MATCH(1,(T_Conges[Nom complet]=$C17)*(T_Conges[Date début]<=J$15)*(T_Conges[Date Fin]>=J$15)*(T_Conges[Statut]="Validé"),0)),Listes!$D$2:$D$7,0)),"")} | K17: {=IFERROR(INDEX(Listes!$E$2:$E$7,MATCH(INDEX(T_Conges[Type d''absence],MATCH(1,(T_Conges[Nom complet]=$C17)*(T_Conges[Date début]<=K$15)*(T_Conges[Date Fin]>=K$15)*(T_Conges[Statut]="Validé"),0)),Listes!$D$2:$D$7,0)),"")} | L17: {=IFERROR(INDEX(Listes!$E$2:$E$7,MATCH(INDEX(T_Conges[Type d''absence],MATCH(1,(T_Conges[Nom complet]=$C17)*(T_Conges[Date début]<=L$15)*(T_Conges[Date Fin]>=L$15)*(T_Conges[Statut]="Validé"),0)),Listes!$D$2:$D$7,0)),"")} | M17: {=IFERROR(INDEX(Listes!$E$2:$E$7,MATCH(INDEX(T_Conges[Type d''absence],MATCH(1,(T_Conges[Nom complet]=$C17)*(T_Conges[Date début]<=M$15)*(T_Conges[Date Fin]>=M$15)*(T_Conges[Statut]="Validé"),0)),Listes!$D$2:$D$7,0)),"")} | N17: {=IFERROR(INDEX(Listes!$E$2:$E$7,MATCH(INDEX(T_Conges[Type d''absence],MATCH(1,(T_Conges[Nom complet]=$C17)*(T_Conges[Date début]<=N$15)*(T_Conges[Date Fin]>=N$15)*(T_Conges[Statut]="Validé"),0)),Listes!$D$2:$D$7,0)),"")} | O17: {=IFERROR(INDEX(Listes!$E$2:$E$7,MATCH(INDEX(T_Conges[Type d''absence],MATCH(1,(T_Conges[Nom complet]=$C17)*(T_Conges[Date début]<=O$15)*(T_Conges[Date Fin]>=O$15)*(T_Conges[Statut]="Validé"),0)),Listes!$D$2:$D$7,0)),"")} | ... AL17: {=IFERROR(INDEX(Listes!$E$2:$E$7,MATCH(INDEX(T_Conges[Type d''absence],MATCH(1,(T_Conges[Nom complet]=$C17)*(T_Conges[Date début]<=AL$15)*(T_Conges[Date Fin]>=AL$15)*(T_Conges[Statut]="Validé"),0)),Listes!$D$2:$D$7,0)),"")}
C18: {=IFERROR(INDEX(T_Conges[Nom complet],MATCH(0,COUNTIF($C$15:C17,T_Conges[Nom complet]),0)),"")} | D18: =IFERROR(VLOOKUP(C18,T_Conges[[Nom complet]:[Département]],2,0),"") | E18: =IFERROR(VLOOKUP(C18,T_Conges[[Nom complet]:[Poste]],3,0),"") | F18: {=SUMPRODUCT(--(H18:AL18<>""))} -> 0 | G18: {=SUMPRODUCT(--(H18:AL18<>""))} -> 0 | H18: {=IFERROR(INDEX(Listes!$E$2:$E$7,MATCH(INDEX(T_Conges[Type d''absence],MATCH(1,(T_Conges[Nom complet]=$C18)*(T_Conges[Date début]<=H$15)*(T_Conges[Date Fin]>=H$15)*(T_Conges[Statut]="Validé"),0)),Listes!$D$2:$D$7,0)),"")} | I18: {=IFERROR(INDEX(Listes!$E$2:$E$7,MATCH(INDEX(T_Conges[Type d''absence],MATCH(1,(T_Conges[Nom complet]=$C18)*(T_Conges[Date début]<=I$15)*(T_Conges[Date Fin]>=I$15)*(T_Conges[Statut]="Validé"),0)),Listes!$D$2:$D$7,0)),"")} | J18: {=IFERROR(INDEX(Listes!$E$2:$E$7,MATCH(INDEX(T_Conges[Type d''absence],MATCH(1,(T_Conges[Nom complet]=$C18)*(T_Conges[Date début]<=J$15)*(T_Conges[Date Fin]>=J$15)*(T_Conges[Statut]="Validé"),0)),Listes!$D$2:$D$7,0)),"")} | K18: {=IFERROR(INDEX(Listes!$E$2:$E$7,MATCH(INDEX(T_Conges[Type d''absence],MATCH(1,(T_Conges[Nom complet]=$C18)*(T_Conges[Date début]<=K$15)*(T_Conges[Date Fin]>=K$15)*(T_Conges[Statut]="Validé"),0)),Listes!$D$2:$D$7,0)),"")} | L18: {=IFERROR(INDEX(Listes!$E$2:$E$7,MATCH(INDEX(T_Conges[Type d''absence],MATCH(1,(T_Conges[Nom complet]=$C18)*(T_Conges[Date début]<=L$15)*(T_Conges[Date Fin]>=L$15)*(T_Conges[Statut]="Validé"),0)),Listes!$D$2:$D$7,0)),"")} | M18: {=IFERROR(INDEX(Listes!$E$2:$E$7,MATCH(INDEX(T_Conges[Type d''absence],MATCH(1,(T_Conges[Nom complet]=$C18)*(T_Conges[Date début]<=M$15)*(T_Conges[Date Fin]>=M$15)*(T_Conges[Statut]="Validé"),0)),Listes!$D$2:$D$7,0)),"")} | N18: {=IFERROR(INDEX(Listes!$E$2:$E$7,MATCH(INDEX(T_Conges[Type d''absence],MATCH(1,(T_Conges[Nom complet]=$C18)*(T_Conges[Date début]<=N$15)*(T_Conges[Date Fin]>=N$15)*(T_Conges[Statut]="Validé"),0)),Listes!$D$2:$D$7,0)),"")} | O18: {=IFERROR(INDEX(Listes!$E$2:$E$7,MATCH(INDEX(T_Conges[Type d''absence],MATCH(1,(T_Conges[Nom complet]=$C18)*(T_Conges[Date début]<=O$15)*(T_Conges[Date Fin]>=O$15)*(T_Conges[Statut]="Validé"),0)),Listes!$D$2:$D$7,0)),"")} | ... AL18: {=IFERROR(INDEX(Listes!$E$2:$E$7,MATCH(INDEX(T_Conges[Type d''absence],MATCH(1,(T_Conges[Nom complet]=$C18)*(T_Conges[Date début]<=AL$15)*(T_Conges[Date Fin]>=AL$15)*(T_Conges[Statut]="Validé"),0)),Listes!$D$2:$D$7,0)),"")}
C19: {=IFERROR(INDEX(T_Conges[Nom complet],MATCH(0,COUNTIF($C$15:C18,T_Conges[Nom complet]),0)),"")} | D19: =IFERROR(VLOOKUP(C19,T_Conges[[Nom complet]:[Département]],2,0),"") | E19: =IFERROR(VLOOKUP(C19,T_Conges[[Nom complet]:[Poste]],3,0),"") | F19: {=SUMPRODUCT(--(H19:AL19<>""))} -> 0 | G19: {=SUMPRODUCT(--(H19:AL19<>""))} -> 0 | H19: {=IFERROR(INDEX(Listes!$E$2:$E$7,MATCH(INDEX(T_Conges[Type d''absence],MATCH(1,(T_Conges[Nom complet]=$C19)*(T_Conges[Date début]<=H$15)*(T_Conges[Date Fin]>=H$15)*(T_Conges[Statut]="Validé"),0)),Listes!$D$2:$D$7,0)),"")} | I19: {=IFERROR(INDEX(Listes!$E$2:$E$7,MATCH(INDEX(T_Conges[Type d''absence],MATCH(1,(T_Conges[Nom complet]=$C19)*(T_Conges[Date début]<=I$15)*(T_Conges[Date Fin]>=I$15)*(T_Conges[Statut]="Validé"),0)),Listes!$D$2:$D$7,0)),"")} | J19: {=IFERROR(INDEX(Listes!$E$2:$E$7,MATCH(INDEX(T_Conges[Type d''absence],MATCH(1,(T_Conges[Nom complet]=$C19)*(T_Conges[Date début]<=J$15)*(T_Conges[Date Fin]>=J$15)*(T_Conges[Statut]="Validé"),0)),Listes!$D$2:$D$7,0)),"")} | K19: {=IFERROR(INDEX(Listes!$E$2:$E$7,MATCH(INDEX(T_Conges[Type d''absence],MATCH(1,(T_Conges[Nom complet]=$C19)*(T_Conges[Date début]<=K$15)*(T_Conges[Date Fin]>=K$15)*(T_Conges[Statut]="Validé"),0)),Listes!$D$2:$D$7,0)),"")} | L19: {=IFERROR(INDEX(Listes!$E$2:$E$7,MATCH(INDEX(T_Conges[Type d''absence],MATCH(1,(T_Conges[Nom complet]=$C19)*(T_Conges[Date début]<=L$15)*(T_Conges[Date Fin]>=L$15)*(T_Conges[Statut]="Validé"),0)),Listes!$D$2:$D$7,0)),"")} | M19: {=IFERROR(INDEX(Listes!$E$2:$E$7,MATCH(INDEX(T_Conges[Type d''absence],MATCH(1,(T_Conges[Nom complet]=$C19)*(T_Conges[Date début]<=M$15)*(T_Conges[Date Fin]>=M$15)*(T_Conges[Statut]="Validé"),0)),Listes!$D$2:$D$7,0)),"")} | N19: {=IFERROR(INDEX(Listes!$E$2:$E$7,MATCH(INDEX(T_Conges[Type d''absence],MATCH(1,(T_Conges[Nom complet]=$C19)*(T_Conges[Date début]<=N$15)*(T_Conges[Date Fin]>=N$15)*(T_Conges[Statut]="Validé"),0)),Listes!$D$2:$D$7,0)),"")} | O19: {=IFERROR(INDEX(Listes!$E$2:$E$7,MATCH(INDEX(T_Conges[Type d''absence],MATCH(1,(T_Conges[Nom complet]=$C19)*(T_Conges[Date début]<=O$15)*(T_Conges[Date Fin]>=O$15)*(T_Conges[Statut]="Validé"),0)),Listes!$D$2:$D$7,0)),"")} | ... AL19: {=IFERROR(INDEX(Listes!$E$2:$E$7,MATCH(INDEX(T_Conges[Type d''absence],MATCH(1,(T_Conges[Nom complet]=$C19)*(T_Conges[Date début]<=AL$15)*(T_Conges[Date Fin]>=AL$15)*(T_Conges[Statut]="Validé"),0)),Listes!$D$2:$D$7,0)),"")}
C20: {=IFERROR(INDEX(T_Conges[Nom complet],MATCH(0,COUNTIF($C$15:C19,T_Conges[Nom complet]),0)),"")} | D20: =IFERROR(VLOOKUP(C20,T_Conges[[Nom complet]:[Département]],2,0),"") | E20: =IFERROR(VLOOKUP(C20,T_Conges[[Nom complet]:[Poste]],3,0),"") | F20: {=SUMPRODUCT(--(H20:AL20<>""))} -> 0 | G20: {=SUMPRODUCT(--(H20:AL20<>""))} -> 0 | H20: {=IFERROR(INDEX(Listes!$E$2:$E$7,MATCH(INDEX(T_Conges[Type d''absence],MATCH(1,(T_Conges[Nom complet]=$C20)*(T_Conges[Date début]<=H$15)*(T_Conges[Date Fin]>=H$15)*(T_Conges[Statut]="Validé"),0)),Listes!$D$2:$D$7,0)),"")} | I20: {=IFERROR(INDEX(Listes!$E$2:$E$7,MATCH(INDEX(T_Conges[Type d''absence],MATCH(1,(T_Conges[Nom complet]=$C20)*(T_Conges[Date début]<=I$15)*(T_Conges[Date Fin]>=I$15)*(T_Conges[Statut]="Validé"),0)),Listes!$D$2:$D$7,0)),"")} | J20: {=IFERROR(INDEX(Listes!$E$2:$E$7,MATCH(INDEX(T_Conges[Type d''absence],MATCH(1,(T_Conges[Nom complet]=$C20)*(T_Conges[Date début]<=J$15)*(T_Conges[Date Fin]>=J$15)*(T_Conges[Statut]="Validé"),0)),Listes!$D$2:$D$7,0)),"")} | K20: {=IFERROR(INDEX(Listes!$E$2:$E$7,MATCH(INDEX(T_Conges[Type d''absence],MATCH(1,(T_Conges[Nom complet]=$C20)*(T_Conges[Date début]<=K$15)*(T_Conges[Date Fin]>=K$15)*(T_Conges[Statut]="Validé"),0)),Listes!$D$2:$D$7,0)),"")} | L20: {=IFERROR(INDEX(Listes!$E$2:$E$7,MATCH(INDEX(T_Conges[Type d''absence],MATCH(1,(T_Conges[Nom complet]=$C20)*(T_Conges[Date début]<=L$15)*(T_Conges[Date Fin]>=L$15)*(T_Conges[Statut]="Validé"),0)),Listes!$D$2:$D$7,0)),"")} | M20: {=IFERROR(INDEX(Listes!$E$2:$E$7,MATCH(INDEX(T_Conges[Type d''absence],MATCH(1,(T_Conges[Nom complet]=$C20)*(T_Conges[Date début]<=M$15)*(T_Conges[Date Fin]>=M$15)*(T_Conges[Statut]="Validé"),0)),Listes!$D$2:$D$7,0)),"")} | N20: {=IFERROR(INDEX(Listes!$E$2:$E$7,MATCH(INDEX(T_Conges[Type d''absence],MATCH(1,(T_Conges[Nom complet]=$C20)*(T_Conges[Date début]<=N$15)*(T_Conges[Date Fin]>=N$15)*(T_Conges[Statut]="Validé"),0)),Listes!$D$2:$D$7,0)),"")} | O20: {=IFERROR(INDEX(Listes!$E$2:$E$7,MATCH(INDEX(T_Conges[Type d''absence],MATCH(1,(T_Conges[Nom complet]=$C20)*(T_Conges[Date début]<=O$15)*(T_Conges[Date Fin]>=O$15)*(T_Conges[Statut]="Validé"),0)),Listes!$D$2:$D$7,0)),"")} | ... AL20: {=IFERROR(INDEX(Listes!$E$2:$E$7,MATCH(INDEX(T_Conges[Type d''absence],MATCH(1,(T_Conges[Nom complet]=$C20)*(T_Conges[Date début]<=AL$15)*(T_Conges[Date Fin]>=AL$15)*(T_Conges[Statut]="Validé"),0)),Listes!$D$2:$D$7,0)),"")}
C21: {=IFERROR(INDEX(T_Conges[Nom complet],MATCH(0,COUNTIF($C$15:C20,T_Conges[Nom complet]),0)),"")} | D21: =IFERROR(VLOOKUP(C21,T_Conges[[Nom complet]:[Département]],2,0),"") | E21: =IFERROR(VLOOKUP(C21,T_Conges[[Nom complet]:[Poste]],3,0),"") | F21: {=SUMPRODUCT(--(H21:AL21<>""))} -> 0 | G21: {=SUMPRODUCT(--(H21:AL21<>""))} -> 0 | H21: {=IFERROR(INDEX(Listes!$E$2:$E$7,MATCH(INDEX(T_Conges[Type d''absence],MATCH(1,(T_Conges[Nom complet]=$C21)*(T_Conges[Date début]<=H$15)*(T_Conges[Date Fin]>=H$15)*(T_Conges[Statut]="Validé"),0)),Listes!$D$2:$D$7,0)),"")} | I21: {=IFERROR(INDEX(Listes!$E$2:$E$7,MATCH(INDEX(T_Conges[Type d''absence],MATCH(1,(T_Conges[Nom complet]=$C21)*(T_Conges[Date début]<=I$15)*(T_Conges[Date Fin]>=I$15)*(T_Conges[Statut]="Validé"),0)),Listes!$D$2:$D$7,0)),"")} | J21: {=IFERROR(INDEX(Listes!$E$2:$E$7,MATCH(INDEX(T_Conges[Type d''absence],MATCH(1,(T_Conges[Nom complet]=$C21)*(T_Conges[Date début]<=J$15)*(T_Conges[Date Fin]>=J$15)*(T_Conges[Statut]="Validé"),0)),Listes!$D$2:$D$7,0)),"")} | K21: {=IFERROR(INDEX(Listes!$E$2:$E$7,MATCH(INDEX(T_Conges[Type d''absence],MATCH(1,(T_Conges[Nom complet]=$C21)*(T_Conges[Date début]<=K$15)*(T_Conges[Date Fin]>=K$15)*(T_Conges[Statut]="Validé"),0)),Listes!$D$2:$D$7,0)),"")} | L21: {=IFERROR(INDEX(Listes!$E$2:$E$7,MATCH(INDEX(T_Conges[Type d''absence],MATCH(1,(T_Conges[Nom complet]=$C21)*(T_Conges[Date début]<=L$15)*(T_Conges[Date Fin]>=L$15)*(T_Conges[Statut]="Validé"),0)),Listes!$D$2:$D$7,0)),"")} | M21: {=IFERROR(INDEX(Listes!$E$2:$E$7,MATCH(INDEX(T_Conges[Type d''absence],MATCH(1,(T_Conges[Nom complet]=$C21)*(T_Conges[Date début]<=M$15)*(T_Conges[Date Fin]>=M$15)*(T_Conges[Statut]="Validé"),0)),Listes!$D$2:$D$7,0)),"")} | N21: {=IFERROR(INDEX(Listes!$E$2:$E$7,MATCH(INDEX(T_Conges[Type d''absence],MATCH(1,(T_Conges[Nom complet]=$C21)*(T_Conges[Date début]<=N$15)*(T_Conges[Date Fin]>=N$15)*(T_Conges[Statut]="Validé"),0)),Listes!$D$2:$D$7,0)),"")} | O21: {=IFERROR(INDEX(Listes!$E$2:$E$7,MATCH(INDEX(T_Conges[Type d''absence],MATCH(1,(T_Conges[Nom complet]=$C21)*(T_Conges[Date début]<=O$15)*(T_Conges[Date Fin]>=O$15)*(T_Conges[Statut]="Validé"),0)),Listes!$D$2:$D$7,0)),"")} | ... AL21: {=IFERROR(INDEX(Listes!$E$2:$E$7,MATCH(INDEX(T_Conges[Type d''absence],MATCH(1,(T_Conges[Nom complet]=$C21)*(T_Conges[Date début]<=AL$15)*(T_Conges[Date Fin]>=AL$15)*(T_Conges[Statut]="Validé"),0)),Listes!$D$2:$D$7,0)),"")}
C22: {=IFERROR(INDEX(T_Conges[Nom complet],MATCH(0,COUNTIF($C$15:C21,T_Conges[Nom complet]),0)),"")} | D22: =IFERROR(VLOOKUP(C22,T_Conges[[Nom complet]:[Département]],2,0),"") | E22: =IFERROR(VLOOKUP(C22,T_Conges[[Nom complet]:[Poste]],3,0),"") | F22: {=SUMPRODUCT(--(H22:AL22<>""))} -> 0 | G22: {=SUMPRODUCT(--(H22:AL22<>""))} -> 0 | H22: {=IFERROR(INDEX(Listes!$E$2:$E$7,MATCH(INDEX(T_Conges[Type d''absence],MATCH(1,(T_Conges[Nom complet]=$C22)*(T_Conges[Date début]<=H$15)*(T_Conges[Date Fin]>=H$15)*(T_Conges[Statut]="Validé"),0)),Listes!$D$2:$D$7,0)),"")} | I22: {=IFERROR(INDEX(Listes!$E$2:$E$7,MATCH(INDEX(T_Conges[Type d''absence],MATCH(1,(T_Conges[Nom complet]=$C22)*(T_Conges[Date début]<=I$15)*(T_Conges[Date Fin]>=I$15)*(T_Conges[Statut]="Validé"),0)),Listes!$D$2:$D$7,0)),"")} | J22: {=IFERROR(INDEX(Listes!$E$2:$E$7,MATCH(INDEX(T_Conges[Type d''absence],MATCH(1,(T_Conges[Nom complet]=$C22)*(T_Conges[Date début]<=J$15)*(T_Conges[Date Fin]>=J$15)*(T_Conges[Statut]="Validé"),0)),Listes!$D$2:$D$7,0)),"")} | K22: {=IFERROR(INDEX(Listes!$E$2:$E$7,MATCH(INDEX(T_Conges[Type d''absence],MATCH(1,(T_Conges[Nom complet]=$C22)*(T_Conges[Date début]<=K$15)*(T_Conges[Date Fin]>=K$15)*(T_Conges[Statut]="Validé"),0)),Listes!$D$2:$D$7,0)),"")} | L22: {=IFERROR(INDEX(Listes!$E$2:$E$7,MATCH(INDEX(T_Conges[Type d''absence],MATCH(1,(T_Conges[Nom complet]=$C22)*(T_Conges[Date début]<=L$15)*(T_Conges[Date Fin]>=L$15)*(T_Conges[Statut]="Validé"),0)),Listes!$D$2:$D$7,0)),"")} | M22: {=IFERROR(INDEX(Listes!$E$2:$E$7,MATCH(INDEX(T_Conges[Type d''absence],MATCH(1,(T_Conges[Nom complet]=$C22)*(T_Conges[Date début]<=M$15)*(T_Conges[Date Fin]>=M$15)*(T_Conges[Statut]="Validé"),0)),Listes!$D$2:$D$7,0)),"")} | N22: {=IFERROR(INDEX(Listes!$E$2:$E$7,MATCH(INDEX(T_Conges[Type d''absence],MATCH(1,(T_Conges[Nom complet]=$C22)*(T_Conges[Date début]<=N$15)*(T_Conges[Date Fin]>=N$15)*(T_Conges[Statut]="Validé"),0)),Listes!$D$2:$D$7,0)),"")} | O22: {=IFERROR(INDEX(Listes!$E$2:$E$7,MATCH(INDEX(T_Conges[Type d''absence],MATCH(1,(T_Conges[Nom complet]=$C22)*(T_Conges[Date début]<=O$15)*(T_Conges[Date Fin]>=O$15)*(T_Conges[Statut]="Validé"),0)),Listes!$D$2:$D$7,0)),"")} | ... AL22: {=IFERROR(INDEX(Listes!$E$2:$E$7,MATCH(INDEX(T_Conges[Type d''absence],MATCH(1,(T_Conges[Nom complet]=$C22)*(T_Conges[Date début]<=AL$15)*(T_Conges[Date Fin]>=AL$15)*(T_Conges[Statut]="Validé"),0)),Listes!$D$2:$D$7,0)),"")}
C23: {=IFERROR(INDEX(T_Conges[Nom complet],MATCH(0,COUNTIF($C$15:C22,T_Conges[Nom complet]),0)),"")} | D23: =IFERROR(VLOOKUP(C23,T_Conges[[Nom complet]:[Département]],2,0),"") | E23: =IFERROR(VLOOKUP(C23,T_Conges[[Nom complet]:[Poste]],3,0),"") | F23: {=SUMPRODUCT(--(H23:AL23<>""))} -> 0 | G23: {=SUMPRODUCT(--(H23:AL23<>""))} -> 0 | H23: {=IFERROR(INDEX(Listes!$E$2:$E$7,MATCH(INDEX(T_Conges[Type d''absence],MATCH(1,(T_Conges[Nom complet]=$C23)*(T_Conges[Date début]<=H$15)*(T_Conges[Date Fin]>=H$15)*(T_Conges[Statut]="Validé"),0)),Listes!$D$2:$D$7,0)),"")} | I23: {=IFERROR(INDEX(Listes!$E$2:$E$7,MATCH(INDEX(T_Conges[Type d''absence],MATCH(1,(T_Conges[Nom complet]=$C23)*(T_Conges[Date début]<=I$15)*(T_Conges[Date Fin]>=I$15)*(T_Conges[Statut]="Validé"),0)),Listes!$D$2:$D$7,0)),"")} | J23: {=IFERROR(INDEX(Listes!$E$2:$E$7,MATCH(INDEX(T_Conges[Type d''absence],MATCH(1,(T_Conges[Nom complet]=$C23)*(T_Conges[Date début]<=J$15)*(T_Conges[Date Fin]>=J$15)*(T_Conges[Statut]="Validé"),0)),Listes!$D$2:$D$7,0)),"")} | K23: {=IFERROR(INDEX(Listes!$E$2:$E$7,MATCH(INDEX(T_Conges[Type d''absence],MATCH(1,(T_Conges[Nom complet]=$C23)*(T_Conges[Date début]<=K$15)*(T_Conges[Date Fin]>=K$15)*(T_Conges[Statut]="Validé"),0)),Listes!$D$2:$D$7,0)),"")} | L23: {=IFERROR(INDEX(Listes!$E$2:$E$7,MATCH(INDEX(T_Conges[Type d''absence],MATCH(1,(T_Conges[Nom complet]=$C23)*(T_Conges[Date début]<=L$15)*(T_Conges[Date Fin]>=L$15)*(T_Conges[Statut]="Validé"),0)),Listes!$D$2:$D$7,0)),"")} | M23: {=IFERROR(INDEX(Listes!$E$2:$E$7,MATCH(INDEX(T_Conges[Type d''absence],MATCH(1,(T_Conges[Nom complet]=$C23)*(T_Conges[Date début]<=M$15)*(T_Conges[Date Fin]>=M$15)*(T_Conges[Statut]="Validé"),0)),Listes!$D$2:$D$7,0)),"")} | N23: {=IFERROR(INDEX(Listes!$E$2:$E$7,MATCH(INDEX(T_Conges[Type d''absence],MATCH(1,(T_Conges[Nom complet]=$C23)*(T_Conges[Date début]<=N$15)*(T_Conges[Date Fin]>=N$15)*(T_Conges[Statut]="Validé"),0)),Listes!$D$2:$D$7,0)),"")} | O23: {=IFERROR(INDEX(Listes!$E$2:$E$7,MATCH(INDEX(T_Conges[Type d''absence],MATCH(1,(T_Conges[Nom complet]=$C23)*(T_Conges[Date début]<=O$15)*(T_Conges[Date Fin]>=O$15)*(T_Conges[Statut]="Validé"),0)),Listes!$D$2:$D$7,0)),"")} | ... AL23: {=IFERROR(INDEX(Listes!$E$2:$E$7,MATCH(INDEX(T_Conges[Type d''absence],MATCH(1,(T_Conges[Nom complet]=$C23)*(T_Conges[Date début]<=AL$15)*(T_Conges[Date Fin]>=AL$15)*(T_Conges[Statut]="Validé"),0)),Listes!$D$2:$D$7,0)),"")}
C24: {=IFERROR(INDEX(T_Conges[Nom complet],MATCH(0,COUNTIF($C$15:C23,T_Conges[Nom complet]),0)),"")} | D24: =IFERROR(VLOOKUP(C24,T_Conges[[Nom complet]:[Département]],2,0),"") | E24: =IFERROR(VLOOKUP(C24,T_Conges[[Nom complet]:[Poste]],3,0),"") | F24: {=SUMPRODUCT(--(H24:AL24<>""))} -> 0 | G24: {=SUMPRODUCT(--(H24:AL24<>""))} -> 0 | H24: {=IFERROR(INDEX(Listes!$E$2:$E$7,MATCH(INDEX(T_Conges[Type d''absence],MATCH(1,(T_Conges[Nom complet]=$C24)*(T_Conges[Date début]<=H$15)*(T_Conges[Date Fin]>=H$15)*(T_Conges[Statut]="Validé"),0)),Listes!$D$2:$D$7,0)),"")} | I24: {=IFERROR(INDEX(Listes!$E$2:$E$7,MATCH(INDEX(T_Conges[Type d''absence],MATCH(1,(T_Conges[Nom complet]=$C24)*(T_Conges[Date début]<=I$15)*(T_Conges[Date Fin]>=I$15)*(T_Conges[Statut]="Validé"),0)),Listes!$D$2:$D$7,0)),"")} | J24: {=IFERROR(INDEX(Listes!$E$2:$E$7,MATCH(INDEX(T_Conges[Type d''absence],MATCH(1,(T_Conges[Nom complet]=$C24)*(T_Conges[Date début]<=J$15)*(T_Conges[Date Fin]>=J$15)*(T_Conges[Statut]="Validé"),0)),Listes!$D$2:$D$7,0)),"")} | K24: {=IFERROR(INDEX(Listes!$E$2:$E$7,MATCH(INDEX(T_Conges[Type d''absence],MATCH(1,(T_Conges[Nom complet]=$C24)*(T_Conges[Date début]<=K$15)*(T_Conges[Date Fin]>=K$15)*(T_Conges[Statut]="Validé"),0)),Listes!$D$2:$D$7,0)),"")} | L24: {=IFERROR(INDEX(Listes!$E$2:$E$7,MATCH(INDEX(T_Conges[Type d''absence],MATCH(1,(T_Conges[Nom complet]=$C24)*(T_Conges[Date début]<=L$15)*(T_Conges[Date Fin]>=L$15)*(T_Conges[Statut]="Validé"),0)),Listes!$D$2:$D$7,0)),"")} | M24: {=IFERROR(INDEX(Listes!$E$2:$E$7,MATCH(INDEX(T_Conges[Type d''absence],MATCH(1,(T_Conges[Nom complet]=$C24)*(T_Conges[Date début]<=M$15)*(T_Conges[Date Fin]>=M$15)*(T_Conges[Statut]="Validé"),0)),Listes!$D$2:$D$7,0)),"")} | N24: {=IFERROR(INDEX(Listes!$E$2:$E$7,MATCH(INDEX(T_Conges[Type d''absence],MATCH(1,(T_Conges[Nom complet]=$C24)*(T_Conges[Date début]<=N$15)*(T_Conges[Date Fin]>=N$15)*(T_Conges[Statut]="Validé"),0)),Listes!$D$2:$D$7,0)),"")} | O24: {=IFERROR(INDEX(Listes!$E$2:$E$7,MATCH(INDEX(T_Conges[Type d''absence],MATCH(1,(T_Conges[Nom complet]=$C24)*(T_Conges[Date début]<=O$15)*(T_Conges[Date Fin]>=O$15)*(T_Conges[Statut]="Validé"),0)),Listes!$D$2:$D$7,0)),"")} | ... AL24: {=IFERROR(INDEX(Listes!$E$2:$E$7,MATCH(INDEX(T_Conges[Type d''absence],MATCH(1,(T_Conges[Nom complet]=$C24)*(T_Conges[Date début]<=AL$15)*(T_Conges[Date Fin]>=AL$15)*(T_Conges[Statut]="Validé"),0)),Listes!$D$2:$D$7,0)),"")}
C25: {=IFERROR(INDEX(T_Conges[Nom complet],MATCH(0,COUNTIF($C$15:C24,T_Conges[Nom complet]),0)),"")} | D25: =IFERROR(VLOOKUP(C25,T_Conges[[Nom complet]:[Département]],2,0),"") | E25: =IFERROR(VLOOKUP(C25,T_Conges[[Nom complet]:[Poste]],3,0),"") | F25: {=SUMPRODUCT(--(H25:AL25<>""))} -> 0 | G25: {=SUMPRODUCT(--(H25:AL25<>""))} -> 0 | H25: {=IFERROR(INDEX(Listes!$E$2:$E$7,MATCH(INDEX(T_Conges[Type d''absence],MATCH(1,(T_Conges[Nom complet]=$C25)*(T_Conges[Date début]<=H$15)*(T_Conges[Date Fin]>=H$15)*(T_Conges[Statut]="Validé"),0)),Listes!$D$2:$D$7,0)),"")} | I25: {=IFERROR(INDEX(Listes!$E$2:$E$7,MATCH(INDEX(T_Conges[Type d''absence],MATCH(1,(T_Conges[Nom complet]=$C25)*(T_Conges[Date début]<=I$15)*(T_Conges[Date Fin]>=I$15)*(T_Conges[Statut]="Validé"),0)),Listes!$D$2:$D$7,0)),"")} | J25: {=IFERROR(INDEX(Listes!$E$2:$E$7,MATCH(INDEX(T_Conges[Type d''absence],MATCH(1,(T_Conges[Nom complet]=$C25)*(T_Conges[Date début]<=J$15)*(T_Conges[Date Fin]>=J$15)*(T_Conges[Statut]="Validé"),0)),Listes!$D$2:$D$7,0)),"")} | K25: {=IFERROR(INDEX(Listes!$E$2:$E$7,MATCH(INDEX(T_Conges[Type d''absence],MATCH(1,(T_Conges[Nom complet]=$C25)*(T_Conges[Date début]<=K$15)*(T_Conges[Date Fin]>=K$15)*(T_Conges[Statut]="Validé"),0)),Listes!$D$2:$D$7,0)),"")} | L25: {=IFERROR(INDEX(Listes!$E$2:$E$7,MATCH(INDEX(T_Conges[Type d''absence],MATCH(1,(T_Conges[Nom complet]=$C25)*(T_Conges[Date début]<=L$15)*(T_Conges[Date Fin]>=L$15)*(T_Conges[Statut]="Validé"),0)),Listes!$D$2:$D$7,0)),"")} | M25: {=IFERROR(INDEX(Listes!$E$2:$E$7,MATCH(INDEX(T_Conges[Type d''absence],MATCH(1,(T_Conges[Nom complet]=$C25)*(T_Conges[Date début]<=M$15)*(T_Conges[Date Fin]>=M$15)*(T_Conges[Statut]="Validé"),0)),Listes!$D$2:$D$7,0)),"")} | N25: {=IFERROR(INDEX(Listes!$E$2:$E$7,MATCH(INDEX(T_Conges[Type d''absence],MATCH(1,(T_Conges[Nom complet]=$C25)*(T_Conges[Date début]<=N$15)*(T_Conges[Date Fin]>=N$15)*(T_Conges[Statut]="Validé"),0)),Listes!$D$2:$D$7,0)),"")} | O25: {=IFERROR(INDEX(Listes!$E$2:$E$7,MATCH(INDEX(T_Conges[Type d''absence],MATCH(1,(T_Conges[Nom complet]=$C25)*(T_Conges[Date début]<=O$15)*(T_Conges[Date Fin]>=O$15)*(T_Conges[Statut]="Validé"),0)),Listes!$D$2:$D$7,0)),"")} | ... AL25: {=IFERROR(INDEX(Listes!$E$2:$E$7,MATCH(INDEX(T_Conges[Type d''absence],MATCH(1,(T_Conges[Nom complet]=$C25)*(T_Conges[Date début]<=AL$15)*(T_Conges[Date Fin]>=AL$15)*(T_Conges[Statut]="Validé"),0)),Listes!$D$2:$D$7,0)),"")}
C26: {=IFERROR(INDEX(T_Conges[Nom complet],MATCH(0,COUNTIF($C$15:C25,T_Conges[Nom complet]),0)),"")} | D26: =IFERROR(VLOOKUP(C26,T_Conges[[Nom complet]:[Département]],2,0),"") | E26: =IFERROR(VLOOKUP(C26,T_Conges[[Nom complet]:[Poste]],3,0),"") | F26: {=SUMPRODUCT(--(H26:AL26<>""))} -> 0 | G26: {=SUMPRODUCT(--(H26:AL26<>""))} -> 0 | H26: {=IFERROR(INDEX(Listes!$E$2:$E$7,MATCH(INDEX(T_Conges[Type d''absence],MATCH(1,(T_Conges[Nom complet]=$C26)*(T_Conges[Date début]<=H$15)*(T_Conges[Date Fin]>=H$15)*(T_Conges[Statut]="Validé"),0)),Listes!$D$2:$D$7,0)),"")} | I26: {=IFERROR(INDEX(Listes!$E$2:$E$7,MATCH(INDEX(T_Conges[Type d''absence],MATCH(1,(T_Conges[Nom complet]=$C26)*(T_Conges[Date début]<=I$15)*(T_Conges[Date Fin]>=I$15)*(T_Conges[Statut]="Validé"),0)),Listes!$D$2:$D$7,0)),"")} | J26: {=IFERROR(INDEX(Listes!$E$2:$E$7,MATCH(INDEX(T_Conges[Type d''absence],MATCH(1,(T_Conges[Nom complet]=$C26)*(T_Conges[Date début]<=J$15)*(T_Conges[Date Fin]>=J$15)*(T_Conges[Statut]="Validé"),0)),Listes!$D$2:$D$7,0)),"")} | K26: {=IFERROR(INDEX(Listes!$E$2:$E$7,MATCH(INDEX(T_Conges[Type d''absence],MATCH(1,(T_Conges[Nom complet]=$C26)*(T_Conges[Date début]<=K$15)*(T_Conges[Date Fin]>=K$15)*(T_Conges[Statut]="Validé"),0)),Listes!$D$2:$D$7,0)),"")} | L26: {=IFERROR(INDEX(Listes!$E$2:$E$7,MATCH(INDEX(T_Conges[Type d''absence],MATCH(1,(T_Conges[Nom complet]=$C26)*(T_Conges[Date début]<=L$15)*(T_Conges[Date Fin]>=L$15)*(T_Conges[Statut]="Validé"),0)),Listes!$D$2:$D$7,0)),"")} | M26: {=IFERROR(INDEX(Listes!$E$2:$E$7,MATCH(INDEX(T_Conges[Type d''absence],MATCH(1,(T_Conges[Nom complet]=$C26)*(T_Conges[Date début]<=M$15)*(T_Conges[Date Fin]>=M$15)*(T_Conges[Statut]="Validé"),0)),Listes!$D$2:$D$7,0)),"")} | N26: {=IFERROR(INDEX(Listes!$E$2:$E$7,MATCH(INDEX(T_Conges[Type d''absence],MATCH(1,(T_Conges[Nom complet]=$C26)*(T_Conges[Date début]<=N$15)*(T_Conges[Date Fin]>=N$15)*(T_Conges[Statut]="Validé"),0)),Listes!$D$2:$D$7,0)),"")} | O26: {=IFERROR(INDEX(Listes!$E$2:$E$7,MATCH(INDEX(T_Conges[Type d''absence],MATCH(1,(T_Conges[Nom complet]=$C26)*(T_Conges[Date début]<=O$15)*(T_Conges[Date Fin]>=O$15)*(T_Conges[Statut]="Validé"),0)),Listes!$D$2:$D$7,0)),"")} | ... AL26: {=IFERROR(INDEX(Listes!$E$2:$E$7,MATCH(INDEX(T_Conges[Type d''absence],MATCH(1,(T_Conges[Nom complet]=$C26)*(T_Conges[Date début]<=AL$15)*(T_Conges[Date Fin]>=AL$15)*(T_Conges[Statut]="Validé"),0)),Listes!$D$2:$D$7,0)),"")}
C27: {=IFERROR(INDEX(T_Conges[Nom complet],MATCH(0,COUNTIF($C$15:C26,T_Conges[Nom complet]),0)),"")} | D27: =IFERROR(VLOOKUP(C27,T_Conges[[Nom complet]:[Département]],2,0),"") | E27: =IFERROR(VLOOKUP(C27,T_Conges[[Nom complet]:[Poste]],3,0),"") | F27: {=SUMPRODUCT(--(H27:AL27<>""))} -> 0 | G27: {=SUMPRODUCT(--(H27:AL27<>""))} -> 0 | H27: {=IFERROR(INDEX(Listes!$E$2:$E$7,MATCH(INDEX(T_Conges[Type d''absence],MATCH(1,(T_Conges[Nom complet]=$C27)*(T_Conges[Date début]<=H$15)*(T_Conges[Date Fin]>=H$15)*(T_Conges[Statut]="Validé"),0)),Listes!$D$2:$D$7,0)),"")} | I27: {=IFERROR(INDEX(Listes!$E$2:$E$7,MATCH(INDEX(T_Conges[Type d''absence],MATCH(1,(T_Conges[Nom complet]=$C27)*(T_Conges[Date début]<=I$15)*(T_Conges[Date Fin]>=I$15)*(T_Conges[Statut]="Validé"),0)),Listes!$D$2:$D$7,0)),"")} | J27: {=IFERROR(INDEX(Listes!$E$2:$E$7,MATCH(INDEX(T_Conges[Type d''absence],MATCH(1,(T_Conges[Nom complet]=$C27)*(T_Conges[Date début]<=J$15)*(T_Conges[Date Fin]>=J$15)*(T_Conges[Statut]="Validé"),0)),Listes!$D$2:$D$7,0)),"")} | K27: {=IFERROR(INDEX(Listes!$E$2:$E$7,MATCH(INDEX(T_Conges[Type d''absence],MATCH(1,(T_Conges[Nom complet]=$C27)*(T_Conges[Date début]<=K$15)*(T_Conges[Date Fin]>=K$15)*(T_Conges[Statut]="Validé"),0)),Listes!$D$2:$D$7,0)),"")} | L27: {=IFERROR(INDEX(Listes!$E$2:$E$7,MATCH(INDEX(T_Conges[Type d''absence],MATCH(1,(T_Conges[Nom complet]=$C27)*(T_Conges[Date début]<=L$15)*(T_Conges[Date Fin]>=L$15)*(T_Conges[Statut]="Validé"),0)),Listes!$D$2:$D$7,0)),"")} | M27: {=IFERROR(INDEX(Listes!$E$2:$E$7,MATCH(INDEX(T_Conges[Type d''absence],MATCH(1,(T_Conges[Nom complet]=$C27)*(T_Conges[Date début]<=M$15)*(T_Conges[Date Fin]>=M$15)*(T_Conges[Statut]="Validé"),0)),Listes!$D$2:$D$7,0)),"")} | N27: {=IFERROR(INDEX(Listes!$E$2:$E$7,MATCH(INDEX(T_Conges[Type d''absence],MATCH(1,(T_Conges[Nom complet]=$C27)*(T_Conges[Date début]<=N$15)*(T_Conges[Date Fin]>=N$15)*(T_Conges[Statut]="Validé"),0)),Listes!$D$2:$D$7,0)),"")} | O27: {=IFERROR(INDEX(Listes!$E$2:$E$7,MATCH(INDEX(T_Conges[Type d''absence],MATCH(1,(T_Conges[Nom complet]=$C27)*(T_Conges[Date début]<=O$15)*(T_Conges[Date Fin]>=O$15)*(T_Conges[Statut]="Validé"),0)),Listes!$D$2:$D$7,0)),"")} | ... AL27: {=IFERROR(INDEX(Listes!$E$2:$E$7,MATCH(INDEX(T_Conges[Type d''absence],MATCH(1,(T_Conges[Nom complet]=$C27)*(T_Conges[Date début]<=AL$15)*(T_Conges[Date Fin]>=AL$15)*(T_Conges[Statut]="Validé"),0)),Listes!$D$2:$D$7,0)),"")}
... C45: {=IFERROR(INDEX(T_Conges[Nom complet],MATCH(0,COUNTIF($C$15:C44,T_Conges[Nom complet]),0)),"")} | D45: =IFERROR(VLOOKUP(C45,T_Conges[[Nom complet]:[Département]],2,0),"") | E45: =IFERROR(VLOOKUP(C45,T_Conges[[Nom complet]:[Poste]],3,0),"") | F45: {=SUMPRODUCT(--(H45:AL45<>""))} -> 0 | G45: {=SUMPRODUCT(--(H45:AL45<>""))} -> 0 | H45: {=IFERROR(INDEX(Listes!$E$2:$E$7,MATCH(INDEX(T_Conges[Type d''absence],MATCH(1,(T_Conges[Nom complet]=$C45)*(T_Conges[Date début]<=H$15)*(T_Conges[Date Fin]>=H$15)*(T_Conges[Statut]="Validé"),0)),Listes!$D$2:$D$7,0)),"")} | I45: {=IFERROR(INDEX(Listes!$E$2:$E$7,MATCH(INDEX(T_Conges[Type d''absence],MATCH(1,(T_Conges[Nom complet]=$C45)*(T_Conges[Date début]<=I$15)*(T_Conges[Date Fin]>=I$15)*(T_Conges[Statut]="Validé"),0)),Listes!$D$2:$D$7,0)),"")} | J45: {=IFERROR(INDEX(Listes!$E$2:$E$7,MATCH(INDEX(T_Conges[Type d''absence],MATCH(1,(T_Conges[Nom complet]=$C45)*(T_Conges[Date début]<=J$15)*(T_Conges[Date Fin]>=J$15)*(T_Conges[Statut]="Validé"),0)),Listes!$D$2:$D$7,0)),"")} | K45: {=IFERROR(INDEX(Listes!$E$2:$E$7,MATCH(INDEX(T_Conges[Type d''absence],MATCH(1,(T_Conges[Nom complet]=$C45)*(T_Conges[Date début]<=K$15)*(T_Conges[Date Fin]>=K$15)*(T_Conges[Statut]="Validé"),0)),Listes!$D$2:$D$7,0)),"")} | L45: {=IFERROR(INDEX(Listes!$E$2:$E$7,MATCH(INDEX(T_Conges[Type d''absence],MATCH(1,(T_Conges[Nom complet]=$C45)*(T_Conges[Date début]<=L$15)*(T_Conges[Date Fin]>=L$15)*(T_Conges[Statut]="Validé"),0)),Listes!$D$2:$D$7,0)),"")} | M45: {=IFERROR(INDEX(Listes!$E$2:$E$7,MATCH(INDEX(T_Conges[Type d''absence],MATCH(1,(T_Conges[Nom complet]=$C45)*(T_Conges[Date début]<=M$15)*(T_Conges[Date Fin]>=M$15)*(T_Conges[Statut]="Validé"),0)),Listes!$D$2:$D$7,0)),"")} | N45: {=IFERROR(INDEX(Listes!$E$2:$E$7,MATCH(INDEX(T_Conges[Type d''absence],MATCH(1,(T_Conges[Nom complet]=$C45)*(T_Conges[Date début]<=N$15)*(T_Conges[Date Fin]>=N$15)*(T_Conges[Statut]="Validé"),0)),Listes!$D$2:$D$7,0)),"")} | O45: {=IFERROR(INDEX(Listes!$E$2:$E$7,MATCH(INDEX(T_Conges[Type d''absence],MATCH(1,(T_Conges[Nom complet]=$C45)*(T_Conges[Date début]<=O$15)*(T_Conges[Date Fin]>=O$15)*(T_Conges[Statut]="Validé"),0)),Listes!$D$2:$D$7,0)),"")} | ... AL45: {=IFERROR(INDEX(Listes!$E$2:$E$7,MATCH(INDEX(T_Conges[Type d''absence],MATCH(1,(T_Conges[Nom complet]=$C45)*(T_Conges[Date début]<=AL$15)*(T_Conges[Date Fin]>=AL$15)*(T_Conges[Statut]="Validé"),0)),Listes!$D$2:$D$7,0)),"")}
